BEGIN:VCALENDAR
VERSION:2.0
PRODID:-//wp-events-plugin.com//7.2.2.1//EN
TZID:Europe/Amsterdam
X-WR-TIMEZONE:Europe/Amsterdam
BEGIN:VEVENT
UID:413@magazijn076.nl
DTSTART;TZID=Europe/Amsterdam:20260507T190000
DTEND;TZID=Europe/Amsterdam:20260507T211500
DTSTAMP:20260421T101735Z
URL:https://www.magazijn076.nl/events/filmvoorstelling-kain-met-nagesprek-
 over-autisme-en-de-liefde/
SUMMARY:filmvoorstelling Kain met nagesprek over 'Autisme en de liefde'
DESCRIPTION:Deze avond is er bij het Filmhuis Botanique Breda een speciale 
 vertoning van de Nederlandse film ‘Kain’. Magazijn omlijst deze avond 
 met zowel een kort voorwoord als een nagesprek met als thema ‘Autisme en
  de liefde’.\n\n‘Kain’ is een tragikomedie van regisseur Gabriel Bau
 er\, waarin de grenzeloze\, onbevreesde autist Kain (gespeeld door Daniël
  Gellvoet) probeert zijn weg te vinden in een wereld die vaak niet begrijp
 t wie hij is. Hij is vastbesloten om te bewijzen dat hij in staat is hetze
 lfde te doen als anderen: zelfstandig wonen\, werken én zijn rijbewijs ha
 len. Wanneer hij de liefde van zijn leven ontmoet\, komt zijn wens om aans
 luiting te vinden bij de normale wereld om hem heen op scherp te staan en 
 de vraag rijst: Wat is eigenlijk normaal?\n\nHet voorwoord wordt verzorgd 
 door schrijver\, dichter en ervaringsdeler Frans A. Brocatus. Hij werkt al
 s vrijwilliger bij Magazijn en vertelt kort over de samenwerking met het f
 ilmhuis. Daarnaast legt hij uit wat Magazijn inhoudt en hoe wij kijken naa
 r autisme en hoe dat deel uitmaakt van onze samenleving.\n\nVragen na de f
 ilm worden beantwoord door Frans en Mathilde van der Westerlaken. Mathilde
  werkt als trainer en (kennis)vraagbaak bij Magazijn. Beiden kunnen naast 
 theoretische kennis ook uit eigen ervaring vertellen.\n\nDeze speciale ver
 toning van ‘Kain’ begint om 19.00 uur. Kaartjes zijn vooraf te bestell
 en via de website van het Filmhuis Botanique Breda.\n\n\n\n[button link="h
 ttps://www.filmhuisbreda.nl/movies/1002/17/kain_en_nagesprek_over_autisme"
 ] webpagina: www.filmhuisbreda.nl/movies/kain_en_nagesprek_over_autisme[/b
 utton]
ATTACH;FMTTYPE=image/jpeg:https://www.magazijn076.nl/wp-content/uploads/20
 26/04/agenda-Kain.png
CATEGORIES:filmvoorstelling
LOCATION:Filmhuis Botanique Breda\, Keizerstraat 19F\, Breda\, 4811 HL\, Ne
 derland
X-APPLE-STRUCTURED-LOCATION;VALUE=URI;X-ADDRESS=Keizerstraat 19F\, Breda\, 
 4811 HL\, Nederland;X-APPLE-RADIUS=100;X-TITLE=Filmhuis Botanique Breda:ge
 o:0,0
END:VEVENT
BEGIN:VTIMEZONE
TZID:Europe/Amsterdam
X-LIC-LOCATION:Europe/Amsterdam
BEGIN:DAYLIGHT
DTSTART:20260329T030000
TZOFFSETFROM:+0100
TZOFFSETTO:+0200
TZNAME:CEST
END:DAYLIGHT
END:VTIMEZONE
END:VCALENDAR